BEGIN:VCALENDAR
VERSION:2.0
PRODID:-//TSuGV Großbettlingen 1903 e.V. - ECPv4.9.8//NONSGML v1.0//EN
CALSCALE:GREGORIAN
METHOD:PUBLISH
X-WR-CALNAME:TSuGV Großbettlingen 1903 e.V.
X-ORIGINAL-URL:https://tsugv.de
X-WR-CALDESC:Veranstaltungen im TSuGV Großbettlingen 1903 e.V.
BEGIN:VTIMEZONE
TZID:Europe/Berlin
BEGIN:DAYLIGHT
TZOFFSETFROM:+0100
TZOFFSETTO:+0200
TZNAME:CEST
DTSTART:20220327T010000
END:DAYLIGHT
BEGIN:STANDARD
TZOFFSETFROM:+0200
TZOFFSETTO:+0100
TZNAME:CET
DTSTART:20221030T010000
END:STANDARD
END:VTIMEZONE
BEGIN:VEVENT
DTSTART;TZID="Europe/Berlin":20220514T133000
DTEND;TZID="Europe/Berlin":20220514T160000
DTSTAMP:20260425T235147
CREATED:20220424T125057Z
LAST-MODIFIED:20220424T125302Z
UID:22687-1652535000-1652544000@tsugv.de
SUMMARY:Erwachsenen-Kleiderbasar
DESCRIPTION:Der Erwach­se­nen-Klei­der­ba­sar in Groß­bett­lin­gen ist zurück! \nVer­kauf von Second-Hand-Mode am 14. Mai 2022 – Ver­käu­fer­lis­ten ab dem 11. April 2022 erhältlich \nNach Coro­na-Pau­se fin­det am 14. Mai 2022 wie­der der Erwach­se­nen-Klei­der­ba­sar in Groß­bett­lin­gen statt. Wer Platz im Klei­der­schrank braucht\, kann dort sei­ne gut erhal­te­nen Klei­dungs­stü­cke (Früh­jahrs- und Som­mer­mo­de) zum Ver­kauf anbie­ten. Inter­es­sier­te Ver­käu­fer kön­nen ab dem 11. April 2022 (ab 7.00 Uhr) unter der E‑Mail-Adres­se basar-TSUGV@online.de Ver­kaufs­lis­ten mit allen Infor­ma­tio­nen anfordern. \nWie funktioniert’s? Wer vom Basar-Team eine Ver­kaufs­lis­te erhal­ten hat\, kenn­zeich­net sei­ne Klei­dungs­stü­cke und trägt sie in die Lis­te ein. Die Ver­käu­fer geben ihre Klei­dung ab. Das Basar-Team bie­tet die Stü­cke auf dem Basar zum Ver­kauf an. Nach des­sen Ende kön­nen die Ver­käu­fer den Erlös bzw. die nicht ver­kauf­te Klei­dung abho­len. Das Basar-Team behält eine klei­ne Pro­vi­si­on. Eine Teil­nah­me ohne Ver­kaufs­lis­te ist nicht möglich. \nDer Klei­der­ba­sar fin­det statt am 14. Mai 2022 von 13.30 — 16.00 Uhr im Forum der Gene­ra­tio­nen Groß­bett­lin­gen. Ange­bo­ten wer­den Damen‑\, Her­ren- oder Jun­ge Mode\, sowie Schu­he und Acces­soires in allen Grö­ßen. Aus­ge­rich­tet wird der Basar von der Fuß­ball­ju­gend des TSu­GV Großbettlingen. \n  \n
URL:https://tsugv.de/event/erwachsenen-kleiderbasar-5/
LOCATION:Forum der Generationen\, Heerweg 20\, Grossbettlingen\, 72663\, Deutschland
CATEGORIES:Fussball,Fussball AH Event,Fussball-Event,Gesang,Gesang-Event,Hauptevents,Inline-Speedskating,Inline-Speedskating Event,Jugendfussball-Event,Tischtennis,Tischtennis-Event,Turnen / Leichtathletik,Turnen / Leichtathletik Event
ATTACH;FMTTYPE=image/png:https://tsugv.de/wp-content/uploads/2022/04/Bildschirmfoto-2022-04-24-um-14.51.49.png
END:VEVENT
END:VCALENDAR