BEGIN:VCALENDAR
VERSION:2.0
PRODID:-//TSuGV Großbettlingen 1903 e.V. - ECPv4.9.8//NONSGML v1.0//EN
CALSCALE:GREGORIAN
METHOD:PUBLISH
X-WR-CALNAME:TSuGV Großbettlingen 1903 e.V.
X-ORIGINAL-URL:https://tsugv.de
X-WR-CALDESC:Veranstaltungen im TSuGV Großbettlingen 1903 e.V.
BEGIN:VTIMEZONE
TZID:Europe/Berlin
BEGIN:DAYLIGHT
TZOFFSETFROM:+0100
TZOFFSETTO:+0200
TZNAME:CEST
DTSTART:20200329T010000
END:DAYLIGHT
BEGIN:STANDARD
TZOFFSETFROM:+0200
TZOFFSETTO:+0100
TZNAME:CET
DTSTART:20201025T010000
END:STANDARD
END:VTIMEZONE
BEGIN:VEVENT
DTSTART;VALUE=DATE:20200126
DTEND;VALUE=DATE:20200127
DTSTAMP:20260424T142642
CREATED:20200116T104517Z
LAST-MODIFIED:20200116T104517Z
UID:22139-1579996800-1580083199@tsugv.de
SUMMARY:Ehrenmitglieder- und Ehrungsnachmittag
DESCRIPTION:
URL:https://tsugv.de/event/ehrenmitglieder-und-ehrungsnachmittag-2/
LOCATION:sport forum\, Heerweg 22\, Großbettlingen\, 72663\, Deutschland
CATEGORIES:Fussball,Fussball-Event,Gesang,Gesang-Event,Hauptevents,Inline-Speedskating,Inline-Speedskating Event,Jugendfussball-Event,Tischtennis,Tischtennis-Event,Turnen / Leichtathletik,Turnen / Leichtathletik Event
END:VEVENT
END:VCALENDAR